BEGIN:VCALENDAR
VERSION:2.0
PRODID:-//Spielespatz - ECPv6.15.20//NONSGML v1.0//EN
CALSCALE:GREGORIAN
METHOD:PUBLISH
X-WR-CALNAME:Spielespatz
X-ORIGINAL-URL:https://spielespatz.de
X-WR-CALDESC:Veranstaltungen für Spielespatz
REFRESH-INTERVAL;VALUE=DURATION:PT1H
X-Robots-Tag:noindex
X-PUBLISHED-TTL:PT1H
BEGIN:VTIMEZONE
TZID:Europe/Berlin
BEGIN:DAYLIGHT
TZOFFSETFROM:+0100
TZOFFSETTO:+0200
TZNAME:CEST
DTSTART:20250330T010000
END:DAYLIGHT
BEGIN:STANDARD
TZOFFSETFROM:+0200
TZOFFSETTO:+0100
TZNAME:CET
DTSTART:20251026T010000
END:STANDARD
BEGIN:DAYLIGHT
TZOFFSETFROM:+0100
TZOFFSETTO:+0200
TZNAME:CEST
DTSTART:20260329T010000
END:DAYLIGHT
BEGIN:STANDARD
TZOFFSETFROM:+0200
TZOFFSETTO:+0100
TZNAME:CET
DTSTART:20261025T010000
END:STANDARD
BEGIN:DAYLIGHT
TZOFFSETFROM:+0100
TZOFFSETTO:+0200
TZNAME:CEST
DTSTART:20270328T010000
END:DAYLIGHT
BEGIN:STANDARD
TZOFFSETFROM:+0200
TZOFFSETTO:+0100
TZNAME:CET
DTSTART:20271031T010000
END:STANDARD
END:VTIMEZONE
BEGIN:VEVENT
DTSTART;TZID=Europe/Berlin:20260422T193000
DTEND;TZID=Europe/Berlin:20260422T233000
DTSTAMP:20260422T115858
CREATED:20260325T111444Z
LAST-MODIFIED:20260415T093625Z
UID:4366-1776886200-1776900600@spielespatz.de
SUMMARY:Spieleabend @ Spielespatz
DESCRIPTION:[INFO: Anmeldezeitraum beginnt ca. 2 Wochen vorher. Je nachdem wann ihr diese nette Veranstaltung entdeckt\, könnt ihr euch evtl. noch nicht anmelden] \n\nTeilnehmen kann nur\, wer sich auch über die Buchungsplattform angemeldet hat. Einfach runterscrollen 🙂 \n\nZum Abend selbst:\nKommt vorbei und genießt die Mitte der Woche mit Spiel & Spaß! Getreu dem Motto: Game after Work 🙂\nSpiele und Neuheiten gibt es genug im Laden. Bringt aber sehr gerne auch eigene Spiele von zuhause mit zu denen ihr die Regeln erklären könnt.\nFür etwaige Regelerklärungen/Fragen stehe ich euch natürlich zur Verfügung hehe. Aber 5 Tische gleichzeitig kann ich nicht betreuen 🙂 \nGespielt wird alles vom wilden UNO bis zum expertigen Brass: Birmingham. Es stehen genügend Tische zur Verfügung\, dass ihr euch an einem Tisch einfinden könnt an dem ihr euch wohlfühlt. Je nach Tagesform und/oder Schwierigkeitsgrad 🙂 \nGetränke und Snacks können selbst mitgebracht werden. \nMeldet euch gerne für Fragen bei der info@spielespatz.de\nFür eine bessere Kommunikation könnt ihr auch der Spieleabend @ Spielespatz -Gruppe beitreten
URL:https://spielespatz.de/event/spieleabend-spielespatz-21
LOCATION:Spielespatz Ulm\, Herdbruckerstr. 15\, Ulm\, 89073\, Deutschland
CATEGORIES:Spieleabend
ORGANIZER;CN="Spielespatz Ulm":MAILTO:info@spielespatz.de
END:VEVENT
BEGIN:VEVENT
DTSTART;TZID=Europe/Berlin:20260422T200000
DTEND;TZID=Europe/Berlin:20260422T220000
DTSTAMP:20260422T115858
CREATED:20260415T093946Z
LAST-MODIFIED:20260415T093946Z
UID:4488-1776888000-1776895200@spielespatz.de
SUMMARY:Blades in the Dark [Rollenspiel]
DESCRIPTION:Dank eines engagierten Spieleleiters aus der Spielespatz-Community wird es in dieser Woche auch einen Tisch mit Rollenspiel geben 🙂 \nWICHTIG:\nDas Rollenspiel findet parallel zum wöchentlichen Spieleabend statt. Startet allerdings erst um 20:00h 🙂 \n\nAnmeldung: Einfach runterscrollen und zum Event anmelden 🙂 \n\nGespielt wird Blades in the Dark und ihr übernehmt die Rollen einer Crew von Auftragsmördern huuuuuch\nEs können maximal 6 Leute an dem Tisch sitzen und es sind Vorkenntnisse im Rollenspiel erforderlich. Neulinge werden/würden es diesesmal schwer haben
URL:https://spielespatz.de/event/blades-in-the-dark-rollenspiel
LOCATION:Spielespatz Ulm\, Herdbruckerstr. 15\, Ulm\, 89073\, Deutschland
CATEGORIES:Spieleabend
ORGANIZER;CN="Spielespatz Ulm":MAILTO:info@spielespatz.de
END:VEVENT
END:VCALENDAR