BEGIN:VCALENDAR
VERSION:2.0
PRODID:-//Spielespatz - ECPv6.15.20//NONSGML v1.0//EN
CALSCALE:GREGORIAN
METHOD:PUBLISH
X-WR-CALNAME:Spielespatz
X-ORIGINAL-URL:https://spielespatz.de
X-WR-CALDESC:Veranstaltungen für Spielespatz
REFRESH-INTERVAL;VALUE=DURATION:PT1H
X-Robots-Tag:noindex
X-PUBLISHED-TTL:PT1H
BEGIN:VTIMEZONE
TZID:Europe/Paris
BEGIN:DAYLIGHT
TZOFFSETFROM:+0100
TZOFFSETTO:+0200
TZNAME:CEST
DTSTART:20220327T010000
END:DAYLIGHT
BEGIN:STANDARD
TZOFFSETFROM:+0200
TZOFFSETTO:+0100
TZNAME:CET
DTSTART:20221030T010000
END:STANDARD
BEGIN:DAYLIGHT
TZOFFSETFROM:+0100
TZOFFSETTO:+0200
TZNAME:CEST
DTSTART:20230326T010000
END:DAYLIGHT
BEGIN:STANDARD
TZOFFSETFROM:+0200
TZOFFSETTO:+0100
TZNAME:CET
DTSTART:20231029T010000
END:STANDARD
BEGIN:DAYLIGHT
TZOFFSETFROM:+0100
TZOFFSETTO:+0200
TZNAME:CEST
DTSTART:20240331T010000
END:DAYLIGHT
BEGIN:STANDARD
TZOFFSETFROM:+0200
TZOFFSETTO:+0100
TZNAME:CET
DTSTART:20241027T010000
END:STANDARD
END:VTIMEZONE
BEGIN:VTIMEZONE
TZID:UTC
BEGIN:STANDARD
TZOFFSETFROM:+0000
TZOFFSETTO:+0000
TZNAME:UTC
DTSTART:20220101T000000
END:STANDARD
END:VTIMEZONE
BEGIN:VEVENT
DTSTART;TZID=Europe/Paris:20230405T193000
DTEND;TZID=Europe/Paris:20230406T000000
DTSTAMP:20260420T191931
CREATED:20230307T215446Z
LAST-MODIFIED:20230404T074028Z
UID:248-1680723000-1680739200@spielespatz.de
SUMMARY:Weekly Wednesday @ Spielespatz Ulm
DESCRIPTION:Wir möchten gerne regelmäßig Mittwochs mit unseren Kunden und Interessenten spielen und einen netten Abend verbringen. \nSpiele diese Woche: Marvel Remix\, Chaos in Gotham City\, Jabbas Palace\, Star Wars Deckbuilding\, Hauptspiel: Obsession \nVerpflegung: muss aktuell noch selbst mitgebracht werden \nTeilnehmen kann nur\, wer sich auch über die Buchungsplattform angemeldet hat. \nFür eine bessere Kommunikation könnt ihr gerne der Weekly Wednesday WhatsApp-Gruppe beitreten
URL:https://spielespatz.de/event/weekly-wednesday-spielespatz-ulm-5
LOCATION:Spielespatz Ulm\, Herdbruckerstr. 15\, Ulm\, 89073\, Deutschland
CATEGORIES:Spieleabend
ORGANIZER;CN="Spielespatz Ulm":MAILTO:info@spielespatz.de
END:VEVENT
BEGIN:VEVENT
DTSTART;TZID=UTC:20230412T193000
DTEND;TZID=UTC:20230413T000000
DTSTAMP:20260420T191931
CREATED:20230330T095402Z
LAST-MODIFIED:20230412T080945Z
UID:276-1681327800-1681344000@spielespatz.de
SUMMARY:Weekly Wednesday @ Spielespatz Ulm
DESCRIPTION:Wir möchten gerne regelmäßig Mittwochs mit unseren Kunden und Interessenten spielen und einen netten Abend verbringen. \nSpiele diese Woche: Tiny Epic Vikings\, Marvel Remix\, Marvel Champions\, Tiny Epic Dungeons (mit Dized Tutorial)\, Tiny Epic Pirates (mit Dized Tutorial)\, Orichalkum\, ggf. ein kleines D&D Abenteuer. \nVerpflegung: muss aktuell noch selbst mitgebracht werden \nTeilnehmen kann nur\, wer sich auch über die Buchungsplattform angemeldet hat. \nFür eine bessere Kommunikation könnt ihr gerne der Weekly Wednesday WhatsApp-Gruppe beitreten
URL:https://spielespatz.de/event/weekly-wednesday-spielespatz-ulm-6
LOCATION:Spielespatz Ulm\, Herdbruckerstr. 15\, Ulm\, 89073\, Deutschland
CATEGORIES:Spieleabend
ORGANIZER;CN="Spielespatz Ulm":MAILTO:info@spielespatz.de
END:VEVENT
BEGIN:VEVENT
DTSTART;TZID=UTC:20230420T193000
DTEND;TZID=UTC:20230421T000000
DTSTAMP:20260420T191931
CREATED:20230330T095803Z
LAST-MODIFIED:20230418T180205Z
UID:279-1682019000-1682035200@spielespatz.de
SUMMARY:Weekly Wednesday ( dieses mal Thursday) @ Spielespatz Ulm
DESCRIPTION:Ausnahmsweise am Donnerstag. Wir möchten gerne regelmäßig Mittwochs mit unseren Kunden und Interessenten spielen und einen netten Abend verbringen. \nSpiele diese Woche: Aktuell noch offen\, wir nehmen aber gerne Vorschläge an. \nVerpflegung: muss aktuell noch selbst mitgebracht werden \nTeilnehmen kann nur\, wer sich auch über die Buchungsplattform angemeldet hat. \nFür eine bessere Kommunikation könnt ihr gerne der Weekly Wednesday WhatsApp-Gruppe beitreten
URL:https://spielespatz.de/event/weekly-wednesday-spielespatz-ulm-7
LOCATION:Spielespatz Ulm\, Herdbruckerstr. 15\, Ulm\, 89073\, Deutschland
CATEGORIES:Spieleabend
ORGANIZER;CN="Spielespatz Ulm":MAILTO:info@spielespatz.de
END:VEVENT
BEGIN:VEVENT
DTSTART;TZID=UTC:20230426T193000
DTEND;TZID=UTC:20230427T000000
DTSTAMP:20260420T191931
CREATED:20230330T095938Z
LAST-MODIFIED:20230412T080424Z
UID:283-1682537400-1682553600@spielespatz.de
SUMMARY:Weekly Wednesday @ Spielespatz Ulm
DESCRIPTION:Wir möchten gerne regelmäßig Mittwochs mit unseren Kunden und Interessenten spielen und einen netten Abend verbringen. \nSpiele diese Woche: Aktuell noch offen\, wir nehmen aber gerne Vorschläge an. \nVerpflegung: muss aktuell noch selbst mitgebracht werden \nTeilnehmen kann nur\, wer sich auch über die Buchungsplattform angemeldet hat. \nFür eine bessere Kommunikation könnt ihr gerne der Weekly Wednesday WhatsApp-Gruppe beitreten
URL:https://spielespatz.de/event/weekly-wednesday-spielespatz-ulm-8
LOCATION:Spielespatz Ulm\, Herdbruckerstr. 15\, Ulm\, 89073\, Deutschland
CATEGORIES:Spieleabend
ORGANIZER;CN="Spielespatz Ulm":MAILTO:info@spielespatz.de
END:VEVENT
END:VCALENDAR