BEGIN:VCALENDAR
VERSION:2.0
PRODID:-//Spielespatz - ECPv6.15.20//NONSGML v1.0//EN
CALSCALE:GREGORIAN
METHOD:PUBLISH
X-WR-CALNAME:Spielespatz
X-ORIGINAL-URL:https://spielespatz.de
X-WR-CALDESC:Veranstaltungen für Spielespatz
REFRESH-INTERVAL;VALUE=DURATION:PT1H
X-Robots-Tag:noindex
X-PUBLISHED-TTL:PT1H
BEGIN:VTIMEZONE
TZID:UTC
BEGIN:STANDARD
TZOFFSETFROM:+0000
TZOFFSETTO:+0000
TZNAME:UTC
DTSTART:20220101T000000
END:STANDARD
END:VTIMEZONE
BEGIN:VTIMEZONE
TZID:Europe/Helsinki
BEGIN:DAYLIGHT
TZOFFSETFROM:+0200
TZOFFSETTO:+0300
TZNAME:EEST
DTSTART:20220327T010000
END:DAYLIGHT
BEGIN:STANDARD
TZOFFSETFROM:+0300
TZOFFSETTO:+0200
TZNAME:EET
DTSTART:20221030T010000
END:STANDARD
BEGIN:DAYLIGHT
TZOFFSETFROM:+0200
TZOFFSETTO:+0300
TZNAME:EEST
DTSTART:20230326T010000
END:DAYLIGHT
BEGIN:STANDARD
TZOFFSETFROM:+0300
TZOFFSETTO:+0200
TZNAME:EET
DTSTART:20231029T010000
END:STANDARD
BEGIN:DAYLIGHT
TZOFFSETFROM:+0200
TZOFFSETTO:+0300
TZNAME:EEST
DTSTART:20240331T010000
END:DAYLIGHT
BEGIN:STANDARD
TZOFFSETFROM:+0300
TZOFFSETTO:+0200
TZNAME:EET
DTSTART:20241027T010000
END:STANDARD
END:VTIMEZONE
BEGIN:VEVENT
DTSTART;TZID=UTC:20230802T193000
DTEND;TZID=UTC:20230803T000000
DTSTAMP:20260420T124131
CREATED:20230714T072914Z
LAST-MODIFIED:20230714T073812Z
UID:429-1691004600-1691020800@spielespatz.de
SUMMARY:Weekly Wednesday @ Spielespatz Ulm
DESCRIPTION:Wir möchten gerne regelmäßig Mittwochs mit unseren Kunden und Interessenten spielen und einen netten Abend verbringen. \nSpiele diese Woche: Aktuell noch offen\, wir nehmen aber gerne Vorschläge an. \nVerpflegung: muss aktuell noch selbst mitgebracht werden \nTeilnehmen kann nur\, wer sich auch über die Buchungsplattform angemeldet hat. \nFür eine bessere Kommunikation könnt ihr gerne der Weekly Wednesday WhatsApp-Gruppe beitreten
URL:https://spielespatz.de/event/weekly-wednesday-spielespatz-ulm-21
LOCATION:Spielespatz Ulm\, Herdbruckerstr. 15\, Ulm\, 89073\, Deutschland
CATEGORIES:Spieleabend
ORGANIZER;CN="Spielespatz Ulm":MAILTO:info@spielespatz.de
END:VEVENT
BEGIN:VEVENT
DTSTART;TZID=Europe/Helsinki:20230809T193000
DTEND;TZID=Europe/Helsinki:20230810T000000
DTSTAMP:20260420T124131
CREATED:20230714T073043Z
LAST-MODIFIED:20230806T091041Z
UID:432-1691609400-1691625600@spielespatz.de
SUMMARY:Weekly Wednesday @ Spielespatz Ulm
DESCRIPTION:Wir möchten gerne regelmäßig Mittwochs mit unseren Kunden und Interessenten spielen und einen netten Abend verbringen. \nSpiele diese Woche: Aktuell noch offen\, wir nehmen aber gerne Vorschläge an. \nVerpflegung: muss aktuell noch selbst mitgebracht werden \nTeilnehmen kann nur\, wer sich auch über die Buchungsplattform angemeldet hat. \nFür eine bessere Kommunikation könnt ihr gerne der Weekly Wednesday WhatsApp-Gruppe beitreten
URL:https://spielespatz.de/event/weekly-wednesday-spielespatz-ulm-22
LOCATION:Spielespatz Ulm\, Herdbruckerstr. 15\, Ulm\, 89073\, Deutschland
CATEGORIES:Spieleabend
ORGANIZER;CN="Spielespatz Ulm":MAILTO:info@spielespatz.de
END:VEVENT
BEGIN:VEVENT
DTSTART;TZID=Europe/Helsinki:20230816T193000
DTEND;TZID=Europe/Helsinki:20230817T000000
DTSTAMP:20260420T124131
CREATED:20230714T073155Z
LAST-MODIFIED:20230806T091055Z
UID:435-1692214200-1692230400@spielespatz.de
SUMMARY:Weekly Wednesday @ Spielespatz Ulm
DESCRIPTION:Wir möchten gerne regelmäßig Mittwochs mit unseren Kunden und Interessenten spielen und einen netten Abend verbringen. \nSpiele diese Woche: Aktuell noch offen\, wir nehmen aber gerne Vorschläge an. \nVerpflegung: muss aktuell noch selbst mitgebracht werden \nTeilnehmen kann nur\, wer sich auch über die Buchungsplattform angemeldet hat. \nFür eine bessere Kommunikation könnt ihr gerne der Weekly Wednesday WhatsApp-Gruppe beitreten
URL:https://spielespatz.de/event/weekly-wednesday-spielespatz-ulm-23
LOCATION:Spielespatz Ulm\, Herdbruckerstr. 15\, Ulm\, 89073\, Deutschland
CATEGORIES:Spieleabend
ORGANIZER;CN="Spielespatz Ulm":MAILTO:info@spielespatz.de
END:VEVENT
BEGIN:VEVENT
DTSTART;TZID=Europe/Helsinki:20230823T193000
DTEND;TZID=Europe/Helsinki:20230824T000000
DTSTAMP:20260420T124131
CREATED:20230714T073247Z
LAST-MODIFIED:20230806T091331Z
UID:438-1692819000-1692835200@spielespatz.de
SUMMARY:Weekly Wednesday @ Spielespatz Ulm
DESCRIPTION:Wir möchten gerne regelmäßig Mittwochs mit unseren Kunden und Interessenten spielen und einen netten Abend verbringen. \nSpiele diese Woche: Aktuell noch offen\, wir nehmen aber gerne Vorschläge an. \nVerpflegung: muss aktuell noch selbst mitgebracht werden \nTeilnehmen kann nur\, wer sich auch über die Buchungsplattform angemeldet hat. \nFür eine bessere Kommunikation könnt ihr gerne der Weekly Wednesday WhatsApp-Gruppe beitreten
URL:https://spielespatz.de/event/weekly-wednesday-spielespatz-ulm-24
LOCATION:Spielespatz Ulm\, Herdbruckerstr. 15\, Ulm\, 89073\, Deutschland
CATEGORIES:Spieleabend
ORGANIZER;CN="Spielespatz Ulm":MAILTO:info@spielespatz.de
END:VEVENT
BEGIN:VEVENT
DTSTART;TZID=Europe/Helsinki:20230830T193000
DTEND;TZID=Europe/Helsinki:20230831T000000
DTSTAMP:20260420T124131
CREATED:20230714T073350Z
LAST-MODIFIED:20230806T091119Z
UID:441-1693423800-1693440000@spielespatz.de
SUMMARY:Weekly Wednesday @ Spielespatz Ulm
DESCRIPTION:Wir möchten gerne regelmäßig Mittwochs mit unseren Kunden und Interessenten spielen und einen netten Abend verbringen. \nSpiele diese Woche: Aktuell noch offen\, wir nehmen aber gerne Vorschläge an. \nVerpflegung: muss aktuell noch selbst mitgebracht werden \nTeilnehmen kann nur\, wer sich auch über die Buchungsplattform angemeldet hat. \nFür eine bessere Kommunikation könnt ihr gerne der Weekly Wednesday WhatsApp-Gruppe beitreten
URL:https://spielespatz.de/event/weekly-wednesday-spielespatz-ulm-25
LOCATION:Spielespatz Ulm\, Herdbruckerstr. 15\, Ulm\, 89073\, Deutschland
CATEGORIES:Spieleabend
ORGANIZER;CN="Spielespatz Ulm":MAILTO:info@spielespatz.de
END:VEVENT
END:VCALENDAR