BEGIN:VCALENDAR
VERSION:2.0
PRODID:-//Spielespatz - ECPv6.15.20//NONSGML v1.0//EN
CALSCALE:GREGORIAN
METHOD:PUBLISH
X-WR-CALNAME:Spielespatz
X-ORIGINAL-URL:https://spielespatz.de
X-WR-CALDESC:Veranstaltungen für Spielespatz
REFRESH-INTERVAL;VALUE=DURATION:PT1H
X-Robots-Tag:noindex
X-PUBLISHED-TTL:PT1H
BEGIN:VTIMEZONE
TZID:UTC
BEGIN:STANDARD
TZOFFSETFROM:+0000
TZOFFSETTO:+0000
TZNAME:UTC
DTSTART:20220101T000000
END:STANDARD
END:VTIMEZONE
BEGIN:VEVENT
DTSTART;TZID=UTC:20231101T193000
DTEND;TZID=UTC:20231102T000000
DTSTAMP:20260420T080613
CREATED:20231030T111223Z
LAST-MODIFIED:20231030T111223Z
UID:598-1698867000-1698883200@spielespatz.de
SUMMARY:Weekly Wednesday @ Spielespatz Ulm
DESCRIPTION:Wir möchten gerne regelmäßig mittwochs mit unseren Kunden und Interessenten spielen und einen netten Abend verbringen. \nSpiele diese Woche: Weitere Essen-Neuheiten – u.a. Ready Set Bet aus dem Hause STROHMANN. \nVerpflegung: Getränke/Snacks müssen aktuell noch selbst mitgebracht werden \nTeilnehmen kann nur\, wer sich auch über die Buchungsplattform angemeldet hat. Es sind 8 Plätze zu vergeben. \nFür eine bessere Kommunikation könnt ihr gerne der Weekly Wednesday WhatsApp-Gruppe beitreten
URL:https://spielespatz.de/event/weekly-wednesday-spielespatz-ulm-33
LOCATION:Spielespatz Ulm\, Herdbruckerstr. 15\, Ulm\, 89073\, Deutschland
END:VEVENT
BEGIN:VEVENT
DTSTART;TZID=UTC:20231108T193000
DTEND;TZID=UTC:20231109T000000
DTSTAMP:20260420T080613
CREATED:20231030T111350Z
LAST-MODIFIED:20231030T111350Z
UID:601-1699471800-1699488000@spielespatz.de
SUMMARY:Weekly Wednesday @ Spielespatz Ulm
DESCRIPTION:Wir möchten gerne regelmäßig mittwochs mit unseren Kunden und Interessenten spielen und einen netten Abend verbringen. \nSpiele diese Woche: Ist aktuell noch offen. Wird gemeinsam in der WhatsApp-Gruppe besprochen was auf den Tisch kommt :] \nVerpflegung: Getränke/Snacks müssen aktuell noch selbst mitgebracht werden \nTeilnehmen kann nur\, wer sich auch über die Buchungsplattform angemeldet hat. Es sind 8 Plätze zu vergeben. \nFür eine bessere Kommunikation könnt ihr gerne der Weekly Wednesday WhatsApp-Gruppe beitreten
URL:https://spielespatz.de/event/weekly-wednesday-spielespatz-ulm-34
LOCATION:Spielespatz Ulm\, Herdbruckerstr. 15\, Ulm\, 89073\, Deutschland
END:VEVENT
BEGIN:VEVENT
DTSTART;TZID=UTC:20231115T193000
DTEND;TZID=UTC:20231116T000000
DTSTAMP:20260420T080613
CREATED:20231030T111510Z
LAST-MODIFIED:20231030T111510Z
UID:604-1700076600-1700092800@spielespatz.de
SUMMARY:Weekly Wednesday @ Spielespatz Ulm
DESCRIPTION:Wir möchten gerne regelmäßig mittwochs mit unseren Kunden und Interessenten spielen und einen netten Abend verbringen. \nSpiele diese Woche: Ist aktuell noch offen. Wird gemeinsam in der WhatsApp-Gruppe besprochen was auf den Tisch kommt :] \nVerpflegung: Getränke/Snacks müssen aktuell noch selbst mitgebracht werden \nTeilnehmen kann nur\, wer sich auch über die Buchungsplattform angemeldet hat. Es sind 8 Plätze zu vergeben. \nFür eine bessere Kommunikation könnt ihr gerne der Weekly Wednesday WhatsApp-Gruppe beitreten
URL:https://spielespatz.de/event/weekly-wednesday-spielespatz-ulm-35
LOCATION:Spielespatz Ulm\, Herdbruckerstr. 15\, Ulm\, 89073\, Deutschland
END:VEVENT
BEGIN:VEVENT
DTSTART;TZID=UTC:20231122T193000
DTEND;TZID=UTC:20231123T000000
DTSTAMP:20260420T080613
CREATED:20231030T111615Z
LAST-MODIFIED:20231109T054935Z
UID:607-1700681400-1700697600@spielespatz.de
SUMMARY:Weekly Wednesday @ Spielespatz Ulm
DESCRIPTION:Wir möchten gerne regelmäßig mittwochs mit unseren Kunden und Interessenten spielen und einen netten Abend verbringen. \nSpiele diese Woche: Ist aktuell noch offen. Wird gemeinsam in der WhatsApp-Gruppe besprochen was auf den Tisch kommt :] \nVerpflegung: Getränke/Snacks müssen aktuell noch selbst mitgebracht werden \nTeilnehmen kann nur\, wer sich auch über die Buchungsplattform angemeldet hat. Es sind 8 Plätze zu vergeben. \nFür eine bessere Kommunikation könnt ihr gerne der Weekly Wednesday WhatsApp-Gruppe beitreten
URL:https://spielespatz.de/event/weekly-wednesday-spielespatz-ulm-36
LOCATION:Spielespatz Ulm\, Herdbruckerstr. 15\, Ulm\, 89073\, Deutschland
END:VEVENT
BEGIN:VEVENT
DTSTART;TZID=UTC:20231129T193000
DTEND;TZID=UTC:20231130T000000
DTSTAMP:20260420T080613
CREATED:20231030T111717Z
LAST-MODIFIED:20231109T055027Z
UID:610-1701286200-1701302400@spielespatz.de
SUMMARY:Weekly Wednesday @ Spielespatz Ulm
DESCRIPTION:Wir möchten gerne regelmäßig mittwochs mit unseren Kunden und Interessenten spielen und einen netten Abend verbringen. \nSpiele diese Woche: Ist aktuell noch offen. Wird gemeinsam in der WhatsApp-Gruppe besprochen was auf den Tisch kommt :] \nVerpflegung: Getränke/Snacks müssen aktuell noch selbst mitgebracht werden \nTeilnehmen kann nur\, wer sich auch über die Buchungsplattform angemeldet hat. Es sind 8 Plätze zu vergeben. \nFür eine bessere Kommunikation könnt ihr gerne der Weekly Wednesday WhatsApp-Gruppe beitreten
URL:https://spielespatz.de/event/weekly-wednesday-spielespatz-ulm-37
LOCATION:Spielespatz Ulm\, Herdbruckerstr. 15\, Ulm\, 89073\, Deutschland
END:VEVENT
END:VCALENDAR