BEGIN:VCALENDAR
VERSION:2.0
PRODID:-//Spielespatz - ECPv6.15.20//NONSGML v1.0//EN
CALSCALE:GREGORIAN
METHOD:PUBLISH
X-ORIGINAL-URL:https://spielespatz.de
X-WR-CALDESC:Veranstaltungen für Spielespatz
REFRESH-INTERVAL;VALUE=DURATION:PT1H
X-Robots-Tag:noindex
X-PUBLISHED-TTL:PT1H
BEGIN:VTIMEZONE
TZID:UTC
BEGIN:STANDARD
TZOFFSETFROM:+0000
TZOFFSETTO:+0000
TZNAME:UTC
DTSTART:20230101T000000
END:STANDARD
END:VTIMEZONE
BEGIN:VEVENT
DTSTART;TZID=UTC:20240605T193000
DTEND;TZID=UTC:20240606T193000
DTSTAMP:20260419T211014
CREATED:20240604T052034Z
LAST-MODIFIED:20240604T052034Z
UID:1090-1717615800-1717702200@spielespatz.de
SUMMARY:Weekly Wednesday @ Spielespatz
DESCRIPTION:Raus aus dem Ernst des Alltags und rein ins Spielvergnügen! Bei unserem Spieleabend ist für jeden etwas dabei – vom strategischen Terraforming Mars bis zum wilden Uno. Es ist alles möglich :] \nKommt vorbei und genießt die Mitte der Woche mit Spiel & Spaß! \nVerpflegung: Getränke und Snacks o.ä. müssen aktuell noch selbst mitgebracht werden \nFür eine bessere Kommunikation könnt ihr gerne der Weekly Wednesday WhatsApp-Gruppe beitreten  \nTeilnehmen kann nur\, wer sich auch über die Buchungsplattform angemeldet hat. Es sind 12 Plätze zu vergeben. Falls alle Plätze bereits belegt sein sollten\, meldet Euch gerne bei der info@spielespatz.de und erkundigt Euch\, ob es noch Wildcard-Plätze gibt.
URL:https://spielespatz.de/event/weekly-wednesday-spielespatz
LOCATION:Spielespatz Ulm\, Herdbruckerstr. 15\, Ulm\, 89073\, Deutschland
CATEGORIES:Spieleabend
ORGANIZER;CN="Spielespatz Ulm":MAILTO:info@spielespatz.de
END:VEVENT
BEGIN:VEVENT
DTSTART;TZID=UTC:20240612T193000
DTEND;TZID=UTC:20240613T193000
DTSTAMP:20260419T211014
CREATED:20240604T052137Z
LAST-MODIFIED:20240604T052137Z
UID:1096-1718220600-1718307000@spielespatz.de
SUMMARY:Weekly Wednesday @ Spielespatz
DESCRIPTION:Raus aus dem Ernst des Alltags und rein ins Spielvergnügen! Bei unserem Spieleabend ist für jeden etwas dabei – vom strategischen Terraforming Mars bis zum wilden Uno. Es ist alles möglich :] \nKommt vorbei und genießt die Mitte der Woche mit Spiel & Spaß! \nVerpflegung: Getränke und Snacks o.ä. müssen aktuell noch selbst mitgebracht werden \nFür eine bessere Kommunikation könnt ihr gerne der Weekly Wednesday WhatsApp-Gruppe beitreten  \nTeilnehmen kann nur\, wer sich auch über die Buchungsplattform angemeldet hat. Es sind 12 Plätze zu vergeben. Falls alle Plätze bereits belegt sein sollten\, meldet Euch gerne bei der info@spielespatz.de und erkundigt Euch\, ob es noch Wildcard-Plätze gibt.
URL:https://spielespatz.de/event/weekly-wednesday-spielespatz-2
LOCATION:Spielespatz Ulm\, Herdbruckerstr. 15\, Ulm\, 89073\, Deutschland
CATEGORIES:Spieleabend
ORGANIZER;CN="Spielespatz Ulm":MAILTO:info@spielespatz.de
END:VEVENT
BEGIN:VEVENT
DTSTART;TZID=UTC:20240619T193000
DTEND;TZID=UTC:20240620T193000
DTSTAMP:20260419T211014
CREATED:20240604T052239Z
LAST-MODIFIED:20240604T052239Z
UID:1099-1718825400-1718911800@spielespatz.de
SUMMARY:Weekly Wednesday @ Spielespatz
DESCRIPTION:Raus aus dem Ernst des Alltags und rein ins Spielvergnügen! Bei unserem Spieleabend ist für jeden etwas dabei – vom strategischen Terraforming Mars bis zum wilden Uno. Es ist alles möglich :] \nKommt vorbei und genießt die Mitte der Woche mit Spiel & Spaß! \nVerpflegung: Getränke und Snacks o.ä. müssen aktuell noch selbst mitgebracht werden \nFür eine bessere Kommunikation könnt ihr gerne der Weekly Wednesday WhatsApp-Gruppe beitreten  \nTeilnehmen kann nur\, wer sich auch über die Buchungsplattform angemeldet hat. Es sind 12 Plätze zu vergeben. Falls alle Plätze bereits belegt sein sollten\, meldet Euch gerne bei der info@spielespatz.de und erkundigt Euch\, ob es noch Wildcard-Plätze gibt.
URL:https://spielespatz.de/event/weekly-wednesday-spielespatz-3
LOCATION:Spielespatz Ulm\, Herdbruckerstr. 15\, Ulm\, 89073\, Deutschland
CATEGORIES:Spieleabend
ORGANIZER;CN="Spielespatz Ulm":MAILTO:info@spielespatz.de
END:VEVENT
BEGIN:VEVENT
DTSTART;TZID=UTC:20240626T193000
DTEND;TZID=UTC:20240627T193000
DTSTAMP:20260419T211014
CREATED:20240604T052429Z
LAST-MODIFIED:20240604T052429Z
UID:1102-1719430200-1719516600@spielespatz.de
SUMMARY:Weekly Wednesday @ Spielespatz
DESCRIPTION:Raus aus dem Ernst des Alltags und rein ins Spielvergnügen! Bei unserem Spieleabend ist für jeden etwas dabei – vom strategischen Terraforming Mars bis zum wilden Uno. Es ist alles möglich :] \nKommt vorbei und genießt die Mitte der Woche mit Spiel & Spaß! \nVerpflegung: Getränke und Snacks o.ä. müssen aktuell noch selbst mitgebracht werden \nFür eine bessere Kommunikation könnt ihr gerne der Weekly Wednesday WhatsApp-Gruppe beitreten  \nTeilnehmen kann nur\, wer sich auch über die Buchungsplattform angemeldet hat. Es sind 12 Plätze zu vergeben. Falls alle Plätze bereits belegt sein sollten\, meldet Euch gerne bei der info@spielespatz.de und erkundigt Euch\, ob es noch Wildcard-Plätze gibt.
URL:https://spielespatz.de/event/weekly-wednesday-spielespatz-4
LOCATION:Spielespatz Ulm\, Herdbruckerstr. 15\, Ulm\, 89073\, Deutschland
CATEGORIES:Spieleabend
ORGANIZER;CN="Spielespatz Ulm":MAILTO:info@spielespatz.de
END:VEVENT
END:VCALENDAR