BEGIN:VCALENDAR
VERSION:2.0
PRODID:-//Spielespatz - ECPv6.15.20//NONSGML v1.0//EN
CALSCALE:GREGORIAN
METHOD:PUBLISH
X-ORIGINAL-URL:https://spielespatz.de
X-WR-CALDESC:Veranstaltungen für Spielespatz
REFRESH-INTERVAL;VALUE=DURATION:PT1H
X-Robots-Tag:noindex
X-PUBLISHED-TTL:PT1H
BEGIN:VTIMEZONE
TZID:UTC
BEGIN:STANDARD
TZOFFSETFROM:+0000
TZOFFSETTO:+0000
TZNAME:UTC
DTSTART:20230101T000000
END:STANDARD
END:VTIMEZONE
BEGIN:VEVENT
DTSTART;TZID=UTC:20240807T193000
DTEND;TZID=UTC:20240808T000000
DTSTAMP:20260419T183220
CREATED:20240802T060635Z
LAST-MODIFIED:20240802T060635Z
UID:1241-1723059000-1723075200@spielespatz.de
SUMMARY:Weekly Wednesday @ Spielespatz
DESCRIPTION:Raus aus dem Ernst des Alltags und rein ins Spielvergnügen! Bei unserem Spieleabend ist für jeden etwas dabei – vom strategischen Terraforming Mars bis zum wilden Uno. Es ist alles möglich :] \nKommt vorbei und genießt die Mitte der Woche mit Spiel & Spaß! \nGetränke und Snacks o.ä. müssen aktuell noch selbst mitgebracht werden. \nFür eine bessere Kommunikation könnt ihr gerne der Weekly Wednesday WhatsApp-Gruppe beitreten  \nTeilnehmen kann nur\, wer sich auch über die Buchungsplattform angemeldet hat. Es sind 12 Plätze zu vergeben. Falls alle Plätze bereits belegt sein sollten\, meldet Euch gerne bei der info@spielespatz.de und erkundigt Euch\, ob es noch Wildcarder-Plätze gibt.
URL:https://spielespatz.de/event/weekly-wednesday-spielespatz-9
LOCATION:Spielespatz Ulm\, Herdbruckerstr. 15\, Ulm\, 89073\, Deutschland
CATEGORIES:Spieleabend
ORGANIZER;CN="Spielespatz Ulm":MAILTO:info@spielespatz.de
END:VEVENT
BEGIN:VEVENT
DTSTART;TZID=UTC:20240814T193000
DTEND;TZID=UTC:20240815T000000
DTSTAMP:20260419T183220
CREATED:20240802T060816Z
LAST-MODIFIED:20240804T035447Z
UID:1248-1723663800-1723680000@spielespatz.de
SUMMARY:Weekly Wednesday @ Spielespatz
DESCRIPTION:Raus aus dem Ernst des Alltags und rein ins Spielvergnügen! Bei unserem Spieleabend ist für jeden etwas dabei – vom strategischen Terraforming Mars bis zum wilden Uno. Es ist alles möglich :] \nKommt vorbei und genießt die Mitte der Woche mit Spiel & Spaß! \nGetränke und Snacks o.ä. müssen aktuell noch selbst mitgebracht werden. \nFür eine bessere Kommunikation könnt ihr gerne der Weekly Wednesday WhatsApp-Gruppe beitreten  \nTeilnehmen kann nur\, wer sich auch über die Buchungsplattform angemeldet hat. Es sind 12 Plätze zu vergeben. Falls alle Plätze bereits belegt sein sollten\, meldet Euch gerne bei der info@spielespatz.de und erkundigt Euch\, ob es noch Wildcarder-Plätze gibt.
URL:https://spielespatz.de/event/weekly-wednesday-spielespatz-10
LOCATION:Spielespatz Ulm\, Herdbruckerstr. 15\, Ulm\, 89073\, Deutschland
CATEGORIES:Spieleabend
ORGANIZER;CN="Spielespatz Ulm":MAILTO:info@spielespatz.de
END:VEVENT
BEGIN:VEVENT
DTSTART;TZID=UTC:20240821T193000
DTEND;TZID=UTC:20240822T000000
DTSTAMP:20260419T183220
CREATED:20240802T060940Z
LAST-MODIFIED:20240802T060940Z
UID:1254-1724268600-1724284800@spielespatz.de
SUMMARY:Weekly Wednesday @ Spielespatz
DESCRIPTION:Raus aus dem Ernst des Alltags und rein ins Spielvergnügen! Bei unserem Spieleabend ist für jeden etwas dabei – vom strategischen Terraforming Mars bis zum wilden Uno. Es ist alles möglich :] \nKommt vorbei und genießt die Mitte der Woche mit Spiel & Spaß! \nGetränke und Snacks o.ä. müssen aktuell noch selbst mitgebracht werden. \nFür eine bessere Kommunikation könnt ihr gerne der Weekly Wednesday WhatsApp-Gruppe beitreten  \nTeilnehmen kann nur\, wer sich auch über die Buchungsplattform angemeldet hat. Es sind 12 Plätze zu vergeben. Falls alle Plätze bereits belegt sein sollten\, meldet Euch gerne bei der info@spielespatz.de und erkundigt Euch\, ob es noch Wildcarder-Plätze gibt.
URL:https://spielespatz.de/event/weekly-wednesday-spielespatz-11
LOCATION:Spielespatz Ulm\, Herdbruckerstr. 15\, Ulm\, 89073\, Deutschland
CATEGORIES:Spieleabend
ORGANIZER;CN="Spielespatz Ulm":MAILTO:info@spielespatz.de
END:VEVENT
BEGIN:VEVENT
DTSTART;TZID=UTC:20240828T193000
DTEND;TZID=UTC:20240829T000000
DTSTAMP:20260419T183220
CREATED:20240802T061148Z
LAST-MODIFIED:20240814T094238Z
UID:1259-1724873400-1724889600@spielespatz.de
SUMMARY:Weekly Wednesday @ Spielespatz
DESCRIPTION:Raus aus dem Ernst des Alltags und rein ins Spielvergnügen! Bei unserem Spieleabend ist für jeden etwas dabei – vom strategischen Terraforming Mars bis zum wilden Uno. Es ist alles möglich :] \nKommt vorbei und genießt die Mitte der Woche mit Spiel & Spaß! \nGetränke und Snacks o.ä. müssen aktuell noch selbst mitgebracht werden. \nFür eine bessere Kommunikation könnt ihr gerne der Weekly Wednesday WhatsApp-Gruppe beitreten  \nTeilnehmen kann nur\, wer sich auch über die Buchungsplattform angemeldet hat. Es sind 12 Plätze zu vergeben. Falls alle Plätze bereits belegt sein sollten\, meldet Euch gerne bei der info@spielespatz.de und erkundigt Euch\, ob es noch Wildcarder-Plätze gibt.
URL:https://spielespatz.de/event/weekly-wednesday-spielespatz-12
LOCATION:Spielespatz Ulm\, Herdbruckerstr. 15\, Ulm\, 89073\, Deutschland
CATEGORIES:Spieleabend
ORGANIZER;CN="Spielespatz Ulm":MAILTO:info@spielespatz.de
END:VEVENT
END:VCALENDAR