BEGIN:VCALENDAR
VERSION:2.0
PRODID:-//Spielespatz - ECPv6.15.20//NONSGML v1.0//EN
CALSCALE:GREGORIAN
METHOD:PUBLISH
X-WR-CALNAME:Spielespatz
X-ORIGINAL-URL:https://spielespatz.de
X-WR-CALDESC:Veranstaltungen für Spielespatz
REFRESH-INTERVAL;VALUE=DURATION:PT1H
X-Robots-Tag:noindex
X-PUBLISHED-TTL:PT1H
BEGIN:VTIMEZONE
TZID:UTC
BEGIN:STANDARD
TZOFFSETFROM:+0000
TZOFFSETTO:+0000
TZNAME:UTC
DTSTART:20230101T000000
END:STANDARD
END:VTIMEZONE
BEGIN:VEVENT
DTSTART;TZID=UTC:20240904T193000
DTEND;TZID=UTC:20240905T000000
DTSTAMP:20260419T171629
CREATED:20240829T063628Z
LAST-MODIFIED:20240829T063826Z
UID:1331-1725478200-1725494400@spielespatz.de
SUMMARY:Weekly Wednesday @ Spielespatz
DESCRIPTION:Raus aus dem Ernst des Alltags und rein ins Spielvergnügen! Bei unserem Spieleabend ist für jeden etwas dabei – vom strategischen Terraforming Mars bis zum wilden Uno. Es ist alles möglich :] \nKommt vorbei und genießt die Mitte der Woche mit Spiel & Spaß! \nGetränke und Snacks o.ä. müssen aktuell noch selbst mitgebracht werden. \nFür eine bessere Kommunikation könnt ihr gerne der Weekly Wednesday WhatsApp-Gruppe beitreten  \nTeilnehmen kann nur\, wer sich auch über die Buchungsplattform angemeldet hat. Es sind 12 Plätze zu vergeben. Falls alle Plätze bereits belegt sein sollten\, meldet Euch gerne bei der info@spielespatz.de und erkundigt Euch\, ob es noch Wildcarder-Plätze gibt.
URL:https://spielespatz.de/event/weekly-wednesday-spielespatz-13
LOCATION:Spielespatz Ulm\, Herdbruckerstr. 15\, Ulm\, 89073\, Deutschland
CATEGORIES:Spieleabend
ORGANIZER;CN="Spielespatz Ulm":MAILTO:info@spielespatz.de
END:VEVENT
BEGIN:VEVENT
DTSTART;TZID=UTC:20240911T193000
DTEND;TZID=UTC:20240912T000000
DTSTAMP:20260419T171629
CREATED:20240829T063635Z
LAST-MODIFIED:20240829T063949Z
UID:1337-1726083000-1726099200@spielespatz.de
SUMMARY:Weekly Wednesday @ Spielespatz
DESCRIPTION:Raus aus dem Ernst des Alltags und rein ins Spielvergnügen! Bei unserem Spieleabend ist für jeden etwas dabei – vom strategischen Terraforming Mars bis zum wilden Uno. Es ist alles möglich :] \nKommt vorbei und genießt die Mitte der Woche mit Spiel & Spaß! \nGetränke und Snacks o.ä. müssen aktuell noch selbst mitgebracht werden. \nFür eine bessere Kommunikation könnt ihr gerne der Weekly Wednesday WhatsApp-Gruppe beitreten  \nTeilnehmen kann nur\, wer sich auch über die Buchungsplattform angemeldet hat. Es sind 12 Plätze zu vergeben. Falls alle Plätze bereits belegt sein sollten\, meldet Euch gerne bei der info@spielespatz.de und erkundigt Euch\, ob es noch Wildcarder-Plätze gibt.
URL:https://spielespatz.de/event/weekly-wednesday-spielespatz-14
LOCATION:Spielespatz Ulm\, Herdbruckerstr. 15\, Ulm\, 89073\, Deutschland
CATEGORIES:Spieleabend
ORGANIZER;CN="Spielespatz Ulm":MAILTO:info@spielespatz.de
END:VEVENT
BEGIN:VEVENT
DTSTART;TZID=UTC:20240913T193000
DTEND;TZID=UTC:20240914T000000
DTSTAMP:20260419T171629
CREATED:20240824T090941Z
LAST-MODIFIED:20240824T091017Z
UID:1321-1726255800-1726272000@spielespatz.de
SUMMARY:Munchkin Klassiker-Tage
DESCRIPTION:Bereit für ein episches Turnier? \nNach über 30 Jahren ist Munchkin zu einem absoluten Klassiker am Spieletisch geworden. \nWas bietet sich also in der Sommerzeit besser an\, als das allererste Munchkin mit einem Event im stationären Fachhandel zu feiern? \n„Das Spiel\, mit dem der Munchkin-Wahnsinn begann. Töte die Monster – Klau den Schatz – Erstich deine Kumpel. Geh in den Dungeon. Töte alles was sich bewegt. Fall deinen Freunden in den Rücken und klau ihr Zeug. Greif dir den Schatz und dann RENN! Gib’s zu\, du liebst es.“ \nTurnierregeln: \nEs wird nach den aktuellen Regeln der beiliegenden Munchkin-Spiele gespielt. Das Turnierreglement werden die Munchkin Crusades 2024 Turnierregeln sein. Ein geteilter Sieg – ebenfalls Teil der Regeln für ein schnelleres Spiel – ist jedoch bei Crusade-Runden ausdrücklich verboten. Dies gilt nur für die Regel „Schnelleres Spiel“. Ein Doppelsieg als „Elf“ beispielsweise ist weiterhin möglich – wenn eine entsprechende Karte im aktuellen Turnierset enthalten ist. \nSchummeln ist nur in Bezug auf die Schummeln-Karte erlaubt. Das letzte Wort in allen Regelfragen hat immer der zuständige Judge. \nAn jeder Runde können vier bis fünf Spieler teilnehmen. Der Judge lost die Spieler den Runden zu. Je nach Teilnehmerzahl könnte vor dem Finale noch ein Halbfinale gespielt werden. \nEs werden zwei Qualifikationsrunden gespielt. Der Sieger der 1. Qualifikationsrunde ist für die 2. Qualifikationsrunde gesperrt. Die Sieger der Qualifikationsrunden sind für das Finale (oder das Halbfinale) qualifiziert. Somit haben alle Spieler zwei Chancen weiterzukommen. \nAlle Teilnehmer erhalten spezielles Promo-Material. Und der Gewinner darf sich über einen oppulenten Munchkin-Stufenwürfel freuen! \nTeilnehmen kann nur\, wer sich auch über die Buchungsplattform angemeldet hat. Es sind 15 Plätze zu vergeben. \nBei Fragen oder Unklarheiten wendet Euch gerne per Mail an die: info@spielespatz.de
URL:https://spielespatz.de/event/1321
LOCATION:Spielespatz Ulm\, Herdbruckerstr. 15\, Ulm\, 89073\, Deutschland
CATEGORIES:Turnier
ORGANIZER;CN="Spielespatz Ulm":MAILTO:info@spielespatz.de
END:VEVENT
BEGIN:VEVENT
DTSTART;TZID=UTC:20240918T193000
DTEND;TZID=UTC:20240919T000000
DTSTAMP:20260419T171629
CREATED:20240829T063641Z
LAST-MODIFIED:20240829T063641Z
UID:1342-1726687800-1726704000@spielespatz.de
SUMMARY:Weekly Wednesday @ Spielespatz
DESCRIPTION:Raus aus dem Ernst des Alltags und rein ins Spielvergnügen! Bei unserem Spieleabend ist für jeden etwas dabei – vom strategischen Terraforming Mars bis zum wilden Uno. Es ist alles möglich :] \nKommt vorbei und genießt die Mitte der Woche mit Spiel & Spaß! \nGetränke und Snacks o.ä. müssen aktuell noch selbst mitgebracht werden. \nFür eine bessere Kommunikation könnt ihr gerne der Weekly Wednesday WhatsApp-Gruppe beitreten  \nTeilnehmen kann nur\, wer sich auch über die Buchungsplattform angemeldet hat. Es sind 12 Plätze zu vergeben. Falls alle Plätze bereits belegt sein sollten\, meldet Euch gerne bei der info@spielespatz.de und erkundigt Euch\, ob es noch Wildcarder-Plätze gibt.
URL:https://spielespatz.de/event/weekly-wednesday-spielespatz-15
LOCATION:Spielespatz Ulm\, Herdbruckerstr. 15\, Ulm\, 89073\, Deutschland
CATEGORIES:Spieleabend
ORGANIZER;CN="Spielespatz Ulm":MAILTO:info@spielespatz.de
END:VEVENT
BEGIN:VEVENT
DTSTART;TZID=UTC:20240925T193000
DTEND;TZID=UTC:20240926T000000
DTSTAMP:20260419T171629
CREATED:20240829T063648Z
LAST-MODIFIED:20240829T063648Z
UID:1347-1727292600-1727308800@spielespatz.de
SUMMARY:Weekly Wednesday @ Spielespatz
DESCRIPTION:Raus aus dem Ernst des Alltags und rein ins Spielvergnügen! Bei unserem Spieleabend ist für jeden etwas dabei – vom strategischen Terraforming Mars bis zum wilden Uno. Es ist alles möglich :] \nKommt vorbei und genießt die Mitte der Woche mit Spiel & Spaß! \nGetränke und Snacks o.ä. müssen aktuell noch selbst mitgebracht werden. \nFür eine bessere Kommunikation könnt ihr gerne der Weekly Wednesday WhatsApp-Gruppe beitreten  \nTeilnehmen kann nur\, wer sich auch über die Buchungsplattform angemeldet hat. Es sind 12 Plätze zu vergeben. Falls alle Plätze bereits belegt sein sollten\, meldet Euch gerne bei der info@spielespatz.de und erkundigt Euch\, ob es noch Wildcarder-Plätze gibt.
URL:https://spielespatz.de/event/weekly-wednesday-spielespatz-16
LOCATION:Spielespatz Ulm\, Herdbruckerstr. 15\, Ulm\, 89073\, Deutschland
CATEGORIES:Spieleabend
ORGANIZER;CN="Spielespatz Ulm":MAILTO:info@spielespatz.de
END:VEVENT
END:VCALENDAR